Workbook

Sheet tonghop
A1: DỰ TRÙ VẬT TƯ KHOA ĐIỆN - ĐIỆN TỬ
A2: Hạng mục: Cấp Điện Động Lực Cho Các Xưởng Thực Tập (27 xưởng TT)
A4: STT | B4: Tên phòng xưởng | C4: Vật tư/ thiết bị | D4: Mã vật tư/ thiết bị | E4: Đơn vị | F4: Số lượng | G4: Tổng
A6: 1 | B6: Nẹp nhựa | C6: 60x22x2000mm | D6: SP/VGA | E6: m | F6: =SUMIF(chitiet!B6:F505,chitiet!B6,chitiet!F6) -> 1135
A7: 2 | B7: Nẹp bán nguyệt | C7: 60x22x1200mm | D7: Nhôm | E7: m | F7: =SUMIF(chitiet!B7:F506,chitiet!B7,chitiet!F7) -> 216
A8: 3 | B8: Ống mềm | C8: D 25 | D8: SP/VGA | E8: m | F8: =SUMIF(chitiet!B8:F507,chitiet!B8,chitiet!F8) -> 490
A9: 4 | B9: Dây điện Cadivi | C9: Cv 4mm2 | E9: m | F9: =SUMIF(chitiet!B9:F508,chitiet!B9,chitiet!F9) -> 6060
A10: 5 | B10: CB 3pha | C10: 4P x 16A | D10: SBS64b/15, SP/ SINO | E10: cái | F10: =SUMIF(chitiet!B10:F509,chitiet!B10,chitiet!F10) -> 161
A11: 6 | B11: CB 1 Pha | C11: 2P X 20A | D11: BS68N/2P20A, SINO | E11: cái | F11: =SUMIF(chitiet!B11:F510,chitiet!B11,chitiet!F11) -> 74
A12: 7 | B12: Ổ cắm điện | C12: loại nổi | D12: Davico | E12: cái | F12: =SUMIF(chitiet!B12:F511,chitiet!B12,chitiet!F12) -> 422
A13: 8 | B13: Tap Lô nhựa | C13: 300X200mm | E13: cái | F13: =SUMIF(chitiet!C13:F512,chitiet!C13,chitiet!F13) -> 145
A14: 9 | B14: Tap Lô nhựa | C14: 100X200mm | E14: cái | F14: =SUMIF(chitiet!C13:F512,chitiet!C79,chitiet!F79) -> 198
A15: 10 | B15: Tắc Kê nhựa | C15: 8x40mm | E15: bịch | F15: =SUMIF(chitiet!B14:F513,chitiet!B14,chitiet!F14) -> 179
A16: 11 | B16: Vít gỗ | C16: 3x2mm | E16: con | F16: =SUMIF(chitiet!C15:F515,chitiet!C15,chitiet!F15) -> 2098
A17: 12 | B17: Vít gỗ | C17: 4x40mm | E17: con | F17: =SUMIF(chitiet!C16:F515,chitiet!C16,chitiet!F16) -> 2190
A18: 13 | B18: Băng keo điện | D18: Nano | E18: cuộn | F18: =SUMIF(chitiet!B17:F516,chitiet!B17,chitiet!F17) -> 134
A19: 14 | B19: Dôminô | C19: 4P/60A | D19: HYT - 604 | E19: cái | F19: =SUMIF(chitiet!B18:F517,chitiet!B18,chitiet!F18) -> 244
A20: 15 | B20: Đầu coss | C20: YF 2.5-4S | D20: 100/ bịch | E20: bịch | F20: =SUMIF(chitiet!B19:F518,chitiet!B19,chitiet!F19) -> 46.1
A21: 16 | B21: Dây gút | C21: 8x 300 | D21: 1000/ bịch | E21: bịch | F21: =SUMIF(chitiet!C20:F520,chitiet!C20,chitiet!F20) -> 5.8
A22: 17 | B22: Dây gút | C22: 3x 100 | D22: 1000/ bịch | E22: bịch | F22: =SUMIF(chitiet!C22:F520,chitiet!C22,chitiet!F22) -> 237
A23: 18 | B23: Nguồn 24VDC | E23: bộ | H23: dtcs1+dtcs2+dlcb+ttplckn

Sheet chitiet
A1: DỰ TRÙ VẬT TƯ KHOA ĐIỆN - ĐIỆN TỬ
A2: Hạng mục: Cấp Điện Động Lực Cho Các Xưởng Thực Tập
A4: STT | B4: Tên phòng xưởng | C4: Vật tư/ thiết bị | D4: Mã vật tư/ thiết bị | E4: Đơn vị | F4: Số lượng | G4: Tổng
A5: 1 | B5: TT Vi Xử Lý (G3.2) | C5: T. Bảo Trân
A6: 1 | B6: Nẹp nhựa | C6: 60x22x2000mm | D6: SP/VGA | E6: m | F6: =12+12+21 -> 45
A7: 2 | B7: Nẹp bán nguyệt | C7: 60x22x1200mm | D7: Nhôm | E7: m | F7: 6
A8: 3 | B8: Ống mềm | C8: D 25 | D8: SP/VGA | E8: m | F8: 10
A9: 4 | B9: Dây điện Cadivi | C9: Cv 4mm2 | E9: m | F9: =50*4 -> 200
A10: 5 | B10: CB 3pha | C10: 4P x 16A | D10: SBS64b/15, SP/ SINO | E10: cái | F10: 1
A11: 6 | B11: CB 1 Pha | C11: 2P X 20A | D11: BS68N/2P20A, SINO | E11: cái | F11: 3
A12: 7 | B12: Ổ cắm điện | C12: loại nổi | D12: Davico | E12: cái | F12: 40
A13: 8 | B13: Tap Lô nhựa | C13: 300X200mm | E13: cái | F13: 0
A14: 9 | B14: Tắc Kê nhựa | C14: 8x40mm | E14: bịch | F14: 10
A15: 10 | B15: Vít gỗ | C15: 3x2mm | E15: con | F15: 100
A16: 11 | B16: Vít gỗ | C16: 4x40mm | E16: con | F16: 100
A17: 12 | B17: Băng keo điện | D17: Nano | E17: cuộn | F17: 2
A18: 13 | B18: Dôminô | C18: 4P/60A | D18: HYT - 604 | E18: cái | F18: 0
A19: 14 | B19: Đầu coss | C19: YF 2.5-4S | D19: 100/ bịch | E19: bịch | F19: 0.5
A20: 15 | B20: Dây gút | C20: 8x 300 | D20: 1000/ bịch | E20: bịch | F20: 0.2
A21: 16 | B21: Dây gút | C21: 3x 100 | D21: 1000/ bịch | E21: bịch | F21: 0.2
A22: 17 | B22: Tap Lô nhựa | C22: 100X200mm | E22: cái | F22: 20
A24: 2 | B24: TT PLC_2 (G3.3) | C24: T. Tiến Đạt
A25: 1 | B25: Nẹp nhựa | C25: 60x22x2000mm | D25: SP/VGA | E25: m | F25: =12+12+21 -> 45
A26: 2 | B26: Nẹp bán nguyệt | C26: 60x22x1200mm | D26: Nhôm | E26: m | F26: 6
A27: 3 | B27: Ống mềm | C27: D 25 | D27: SP/VGA | E27: m | F27: 10
A28: 4 | B28: Dây điện Cadivi | C28: Cv 4mm2 | E28: m | F28: =(45+15)*4 -> 240
A29: 5 | B29: CB 3pha | C29: 4P x 16A | D29: SBS64b/15, SP/ SINO | E29: cái | F29: 12
A30: 6 | B30: CB 1 Pha | C30: 2P X 20A | D30: BS68N/2P20A, SINO | E30: cái | F30: 0
A31: 7 | B31: Ổ cắm điện | C31: loại nổi | D31: Davico | E31: cái | F31: 32
A32: 8 | B32: Tap Lô nhựa | C32: 300X200mm | E32: cái | F32: 12
A33: 9 | B33: Tap Lô nhựa | C33: 100X200mm | E33: cái | F33: 11
A34: 10 | B34: Tắc Kê nhựa | C34: 8x40mm | E34: bịch | F34: 6
A35: 11 | B35: Vít gỗ | C35: 3x2mm | E35: con | F35: 100
A36: 12 | B36: Vít gỗ | C36: 4x40mm | E36: con | F36: 100
A37: 13 | B37: Băng keo điện | D37: Nano | E37: cuộn | F37: 1
A38: 14 | B38: Dôminô | C38: 4P/60A | D38: HYT - 604 | E38: cái | F38: 12
A39: 15 | B39: Đầu coss | C39: YF 2.5-4S | D39: 100/ bịch | E39: bịch | F39: 1
A40: 16 | B40: Dây gút | C40: 8x 300 | D40: 1000/ bịch | E40: bịch | F40: 0.2
A41: 17 | B41: Dây gút | C41: 3x 100 | D41: 1000/ bịch | E41: bịch | F41: 0.2
A43: 3 | B43: TT Tự Động Hóa (G3.4) | C43: T. Phong Cường
A44: 1 | B44: Nẹp nhựa | C44: 60x22x2000mm | D44: SP/VGA | E44: m | F44: =12+12+21 -> 45
A45: 2 | B45: Nẹp bán nguyệt | C45: 60x22x1200mm | D45: Nhôm | E45: m | F45: 36
A46: 3 | B46: Ống mềm | C46: D 25 | D46: SP/VGA | E46: m | F46: 50
A47: 4 | B47: Dây điện Cadivi | C47: Cv 4mm2 | E47: m | F47: =(45+20)*4 -> 260
A48: 5 | B48: CB 3pha | C48: 4P x 16A | D48: SBS64b/15, SP/ SINO | E48: cái | F48: 3
A49: 6 | B49: CB 1 Pha | C49: 2P X 20A | D49: BS68N/2P20A, SINO | E49: cái | F49: 2
A50: 7 | B50: Ổ cắm điện | C50: loại nổi | D50: Davico | E50: cái | F50: 25
A51: 8 | B51: Tap Lô nhựa | C51: 300X200mm | E51: cái | F51: 3
A52: 9 | B52: Tap Lô nhựa | C52: 100X200mm | E52: cái | F52: 20
A53: 10 | B53: Tắc Kê nhựa | C53: 8x40mm | E53: bịch | F53: 10
A54: 11 | B54: Vít gỗ | C54: 3x2mm | E54: con | F54: 20
A55: 12 | B55: Vít gỗ | C55: 4x40mm | E55: con | F55: 20
A56: 13 | B56: Băng keo điện | D56: Nano | E56: cuộn | F56: 2
A57: 14 | B57: Dôminô | C57: 4P/60A | D57: HYT - 604 | E57: cái | F57: 1
A58: 15 | B58: Đầu coss | C58: YF 2.5-4S | D58: 100/ bịch | E58: bịch | F58: 0.2
A59: 16 | B59: Dây gút | C59: 8x 300 | D59: 1000/ bịch | E59: bịch | F59: 0.2
A60: 17 | B60: Dây gút | C60: 3x 100 | D60: 1000/ bịch | E60: bịch | F60: 0.3
A62: 4 | B62: TT Scada_1 (G3.5) | C62: T. Đức Minh
A63: 1 | B63: Nẹp nhựa | C63: 60x22x2000mm | D63: SP/VGA | E63: m | F63: =12+12+21 -> 45
A64: 2 | B64: Nẹp bán nguyệt | C64: 60x22x1200mm | D64: Nhôm | E64: m | F64: 6
A65: 3 | B65: Ống mềm | C65: D 25 | D65: SP/VGA | E65: m | F65: 20
A66: 4 | B66: Dây điện Cadivi | C66: Cv 4mm2 | E66: m | F66: =50*4 -> 200
A67: 5 | B67: CB 3pha | C67: 4P x 16A | D67: SBS64b/15, SP/ SINO | E67: cái | F67: 4
A68: 6 | B68: CB 1 Pha | C68: 2P X 20A | D68: BS68N/2P20A, SINO | E68: cái | F68: 3
A69: 7 | B69: Ổ cắm điện | C69: loại nổi | D69: Davico | E69: cái | F69: 25
A70: 8 | B70: Tap Lô nhựa | C70: 300X200mm | E70: cái | F70: 4
A71: 9 | B71: Tắc Kê nhựa | C71: 8x40mm | E71: bịch | F71: 6
A72: 10 | B72: Vít gỗ | C72: 3x2mm | E72: con | F72: 100
A73: 11 | B73: Vít gỗ | C73: 4x40mm | E73: con | F73: 100
A74: 12 | B74: Băng keo điện | D74: Nano | E74: cuộn | F74: 2
A75: 13 | B75: Dôminô | C75: 4P/60A | D75: HYT - 604 | E75: cái | F75: 4
A76: 14 | B76: Đầu coss | C76: YF 2.5-4S | D76: 100/ bịch | E76: bịch | F76: 1
A77: 15 | B77: Dây gút | C77: 8x 300 | D77: 1000/ bịch | E77: bịch | F77: 0.2
A78: 16 | B78: Dây gút | C78: 3x 100 | D78: 1000/ bịch | E78: bịch | F78: 0.2
A79: 17 | B79: Tap Lô nhựa | C79: 100X200mm | E79: cái | F79: 25
A81: 5 | B81: TT Scada_2 (G3.6) | C81: T. Ngọc Mai
A82: 1 | B82: Nẹp nhựa | C82: 60x22x2000mm | D82: SP/VGA | E82: m | F82: =12+12+21 -> 45
A83: 2 | B83: Nẹp bán nguyệt | C83: 60x22x1200mm | D83: Nhôm | E83: m | F83: 6
A84: 3 | B84: Ống mềm | C84: D 25 | D84: SP/VGA | E84: m | F84: 20
A85: 4 | B85: Dây điện Cadivi | C85: Cv 4mm2 | E85: m | F85: =50*4 -> 200
A86: 5 | B86: CB 3pha | C86: 4P x 16A | D86: SBS64b/15, SP/ SINO | E86: cái | F86: 4
A87: 6 | B87: CB 1 Pha | C87: 2P X 20A | D87: BS68N/2P20A, SINO | E87: cái | F87: 3
A88: 7 | B88: Ổ cắm điện | C88: loại nổi | D88: Davico | E88: cái | F88: 25
A89: 8 | B89: Tap Lô nhựa | C89: 300X200mm | E89: cái | F89: 4
A90: 9 | B90: Tắc Kê nhựa | C90: 8x40mm | E90: bịch | F90: 6
A91: 10 | B91: Vít gỗ | C91: 3x2mm | E91: con | F91: 100
A92: 11 | B92: Vít gỗ | C92: 4x40mm | E92: con | F92: 100
A93: 12 | B93: Băng keo điện | D93: Nano | E93: cuộn | F93: 2
A94: 13 | B94: Dôminô | C94: 4P/60A | D94: HYT - 604 | E94: cái | F94: 4
A95: 14 | B95: Đầu coss | C95: YF 2.5-4S | D95: 100/ bịch | E95: bịch | F95: 1
A96: 15 | B96: Dây gút | C96: 8x 300 | D96: 1000/ bịch | E96: bịch | F96: 0.2
A97: 16 | B97: Dây gút | C97: 3x 100 | D97: 1000/ bịch | E97: bịch | F97: 0.2
A98: 17 | B98: Tap Lô nhựa | C98: 100X200mm | E98: cái | F98: 25
A100: 6 | B100: TT ĐT Công Suất_1 (G3.7) | C100: T. Hồng Đức
A101: 1 | B101: Nẹp nhựa | C101: 60x22x2000mm | D101: SP/VGA | E101: m | F101: =12+12+21 -> 45
A102: 2 | B102: Nẹp bán nguyệt | C102: 60x22x1200mm | D102: Nhôm | E102: m | F102: 0
A103: 3 | B103: Ống mềm | C103: D 25 | D103: SP/VGA | E103: m | F103: 5
A104: 4 | B104: Dây điện Cadivi | C104: Cv 4mm2 | E104: m | F104: =(45+15)*4 -> 240
A105: 5 | B105: CB 3pha | C105: 4P x 16A | D105: SBS64b/15, SP/ SINO | E105: cái | F105: 16
A106: 6 | B106: CB 1 Pha | C106: 2P X 20A | D106: BS68N/2P20A, SINO | E106: cái | F106: 0
...

Sheet Sheet3
