Workbook

Sheet tonghop
A1: DỰ TRÙ VẬT TƯ KHOA ĐIỆN - ĐIỆN TỬ
A2: Hạng mục: Cấp Điện Động Lực Cho Các Xưởng Thực Tập (27 xưởng TT)
A4: STT | B4: Tên phòng xưởng | C4: Vật tư/ thiết bị | D4: Mã vật tư/ thiết bị | E4: Đơn vị | F4: Số lượng | G4: Tổng
A6: 1 | B6: Nẹp nhựa | C6: 60x22x2000mm | D6: SP/VGA | E6: m | F6: =SUMIF(chitiet!B6:F505,chitiet!B6,chitiet!F6) -> 1135
A7: 2 | B7: Nẹp bán nguyệt | C7: 60x22x1200mm | D7: Nhôm | E7: m | F7: =SUMIF(chitiet!B7:F506,chitiet!B7,chitiet!F7) -> 216
A8: 3 | B8: Ống mềm | C8: D 25 | D8: SP/VGA | E8: m | F8: =SUMIF(chitiet!B8:F507,chitiet!B8,chitiet!F8) -> 490
A9: 4 | B9: Dây điện Cadivi | C9: Cv 4mm2 | E9: m | F9: =SUMIF(chitiet!B9:F508,chitiet!B9,chitiet!F9) -> 6060
A10: 5 | B10: CB 3pha | C10: 4P x 16A | D10: SBS64b/15, SP/ SINO | E10: cái | F10: =SUMIF(chitiet!B10:F509,chitiet!B10,chitiet!F10) -> 161
A11: 6 | B11: CB 1 Pha | C11: 2P X 20A | D11: BS68N/2P20A, SINO | E11: cái | F11: =SUMIF(chitiet!B11:F510,chitiet!B11,chitiet!F11) -> 74
A12: 7 | B12: Ổ cắm điện | C12: loại nổi | D12: Davico | E12: cái | F12: =SUMIF(chitiet!B12:F511,chitiet!B12,chitiet!F12) -> 422
A13: 8 | B13: Tap Lô nhựa | C13: 300X200mm | E13: cái | F13: =SUMIF(chitiet!C13:F512,chitiet!C13,chitiet!F13) -> 145
A14: 9 | B14: Tap Lô nhựa | C14: 100X200mm | E14: cái | F14: =SUMIF(chitiet!C13:F512,chitiet!C79,chitiet!F79) -> 198
A15: 10 | B15: Tắc Kê nhựa | C15: 8x40mm | E15: bịch | F15: =SUMIF(chitiet!B14:F513,chitiet!B14,chitiet!F14) -> 179
A16: 11 | B16: Vít gỗ | C16: 3x2mm | E16: con | F16: =SUMIF(chitiet!C15:F515,chitiet!C15,chitiet!F15) -> 2098
A17: 12 | B17: Vít gỗ | C17: 4x40mm | E17: con | F17: =SUMIF(chitiet!C16:F515,chitiet!C16,chitiet!F16) -> 2190
A18: 13 | B18: Băng keo điện | D18: Nano | E18: cuộn | F18: =SUMIF(chitiet!B17:F516,chitiet!B17,chitiet!F17) -> 134
A19: 14 | B19: Dôminô | C19: 4P/60A | D19: HYT - 604 | E19: cái | F19: =SUMIF(chitiet!B18:F517,chitiet!B18,chitiet!F18) -> 244
A20: 15 | B20: Đầu coss | C20: YF 2.5-4S | D20: 100/ bịch | E20: bịch | F20: =SUMIF(chitiet!B19:F518,chitiet!B19,chitiet!F19) -> 46.1
A21: 16 | B21: Dây gút | C21: 8x 300 | D21: 1000/ bịch | E21: bịch | F21: =SUMIF(chitiet!C20:F520,chitiet!C20,chitiet!F20) -> 5.8
A22: 17 | B22: Dây gút | C22: 3x 100 | D22: 1000/ bịch | E22: bịch | F22: =SUMIF(chitiet!C22:F520,chitiet!C22,chitiet!F22) -> 237
A23: 18 | B23: Nguồn 24VDC | E23: bộ | H23: dtcs1+dtcs2+dlcb+ttplckn

Sheet chitiet
A1: DỰ TRÙ VẬT TƯ KHOA ĐIỆN - ĐIỆN TỬ
A2: Hạng mục: Cấp Điện Động Lực Cho Các Xưởng Thực Tập
A4: STT | B4: Tên phòng xưởng | C4: Vật tư/ thiết bị | D4: Mã vật tư/ thiết bị | E4: Đơn vị | F4: Số lượng | G4: Tổng
A5: 1 | B5: TT Vi Xử Lý (G3.2) | C5: T. Bảo Trân
A6: 1 | B6: Nẹp nhựa | C6: 60x22x2000mm | D6: SP/VGA | E6: m | F6: =12+12+21 -> 45
A7: 2 | B7: Nẹp bán nguyệt | C7: 60x22x1200mm | D7: Nhôm | E7: m | F7: 6
A8: 3 | B8: Ống mềm | C8: D 25 | D8: SP/VGA | E8: m | F8: 10
A9: 4 | B9: Dây điện Cadivi | C9: Cv 4mm2 | E9: m | F9: =50*4 -> 200
A10: 5 | B10: CB 3pha | C10: 4P x 16A | D10: SBS64b/15, SP/ SINO | E10: cái | F10: 1
A11: 6 | B11: CB 1 Pha | C11: 2P X 20A | D11: BS68N/2P20A, SINO | E11: cái | F11: 3
A12: 7 | B12: Ổ cắm điện | C12: loại nổi | D12: Davico | E12: cái | F12: 40
A13: 8 | B13: Tap Lô nhựa | C13: 300X200mm | E13: cái | F13: 0
A14: 9 | B14: Tắc Kê nhựa | C14: 8x40mm | E14: bịch | F14: 10
A15: 10 | B15: Vít gỗ | C15: 3x2mm | E15: con | F15: 100
A16: 11 | B16: Vít gỗ | C16: 4x40mm | E16: con | F16: 100
A17: 12 | B17: Băng keo điện | D17: Nano | E17: cuộn | F17: 2
A18: 13 | B18: Dôminô | C18: 4P/60A | D18: HYT - 604 | E18: cái | F18: 0
A19: 14 | B19: Đầu coss | C19: YF 2.5-4S | D19: 100/ bịch | E19: bịch | F19: 0.5
A20: 15 | B20: Dây gút | C20: 8x 300 | D20: 1000/ bịch | E20: bịch | F20: 0.2
A21: 16 | B21: Dây gút | C21: 3x 100 | D21: 1000/ bịch | E21: bịch | F21: 0.2
A22: 17 | B22: Tap Lô nhựa | C22: 100X200mm | E22: cái | F22: 20
A24: 2 | B24: TT PLC_2 (G3.3) | C24: T. Tiến Đạt
A25: 1 | B25: Nẹp nhựa | C25: 60x22x2000mm | D25: SP/VGA | E25: m | F25: =12+12+21 -> 45
A26: 2 | B26: Nẹp bán nguyệt | C26: 60x22x1200mm | D26: Nhôm | E26: m | F26: 6
A27: 3 | B27: Ống mềm | C27: D 25 | D27: SP/VGA | E27: m | F27: 10
A28: 4 | B28: Dây điện Cadivi | C28: Cv 4mm2 | E28: m | F28: =(45+15)*4 -> 240
A29: 5 | B29: CB 3pha | C29: 4P x 16A | D29: SBS64b/15, SP/ SINO | E29: cái | F29: 12
A30: 6 | B30: CB 1 Pha | C30: 2P X 20A | D30: BS68N/2P20A, SINO | E30: cái | F30: 0
A31: 7 | B31: Ổ cắm điện | C31: loại nổi | D31: Davico | E31: cái | F31: 32
A32: 8 | B32: Tap Lô nhựa | C32: 300X200mm | E32: cái | F32: 12
A33: 9 | B33: Tap Lô nhựa | C33: 100X200mm | E33: cái | F33: 11
A34: 10 | B34: Tắc Kê nhựa | C34: 8x40mm | E34: bịch | F34: 6
A35: 11 | B35: Vít gỗ | C35: 3x2mm | E35: con | F35: 100
A36: 12 | B36: Vít gỗ | C36: 4x40mm | E36: con | F36: 100
A37: 13 | B37: Băng keo điện | D37: Nano | E37: cuộn | F37: 1
A38: 14 | B38: Dôminô | C38: 4P/60A | D38: HYT - 604 | E38: cái | F38: 12
A39: 15 | B39: Đầu coss | C39: YF 2.5-4S | D39: 100/ bịch | E39: bịch | F39: 1
A40: 16 | B40: Dây gút | C40: 8x 300 | D40: 1000/ bịch | E40: bịch | F40: 0.2
A41: 17 | B41: Dây gút | C41: 3x 100 | D41: 1000/ bịch | E41: bịch | F41: 0.2
A43: 3 | B43: TT Tự Động Hóa (G3.4) | C43: T. Phong Cường
...

Sheet Sheet3
